BEGIN:VCALENDAR
VERSION:2.0
PRODID:-//Tukios.com/
BEGIN:VEVENT
UID:3c64314f-4502-43f9-a65b-879b8b7f1e0f@www.krestridgefuneralhometx.com
DTSTAMP:20260421T235631Z
DTSTART:20260427T160000Z
DTEND:20260427T170000Z
SUMMARY:Celebration of Life
DESCRIPTION:
URL:https://www.krestridgefuneralhometx.com/obituaries/jerry-fowler
LOCATION:Krestridge Funeral Home 505 Austin Street  Levelland TX 79336
GEO:33.5866883;-102.3737287
END:VEVENT
END:VCALENDAR